BEGIN:VCALENDAR
VERSION:2.0
PRODID:icalendar-ruby
CALSCALE:GREGORIAN
BEGIN:VEVENT
DTSTAMP:20260420T080807Z
UID:c7593be9-19bc-427b-80a6-8e0a56cf8dbc
DTSTART;VALUE=DATE:20240712
DESCRIPTION:Property ID# 576865\, Time: 11:00AM
SUMMARY:Auction for 
END:VEVENT
END:VCALENDAR
